BEGIN:VCALENDAR
VERSION:2.0
PRODID:-//eo science for society - ECPv5.0.2.1//NONSGML v1.0//EN
CALSCALE:GREGORIAN
METHOD:PUBLISH
X-WR-CALNAME:eo science for society
X-ORIGINAL-URL:https://eo4society.esa.int
X-WR-CALDESC:Events for eo science for society
BEGIN:VTIMEZONE
TZID:Europe/Helsinki
BEGIN:DAYLIGHT
TZOFFSETFROM:+0200
TZOFFSETTO:+0300
TZNAME:EEST
DTSTART:20240331T010000
END:DAYLIGHT
BEGIN:STANDARD
TZOFFSETFROM:+0300
TZOFFSETTO:+0200
TZNAME:EET
DTSTART:20241027T010000
END:STANDARD
END:VTIMEZONE
BEGIN:VEVENT
DTSTART;VALUE=DATE:20240916
DTEND;VALUE=DATE:20240919
DTSTAMP:20260424T051520
CREATED:20240116T111659Z
LAST-MODIFIED:20240718T083454Z
UID:24095-1726444800-1726703999@eo4society.esa.int
SUMMARY:URBIS24
DESCRIPTION:Background\nThe URBIS24 Workshop will gather a diverse community of urban policymakers\, Earth Observation researchers\, service providers and various end-users. Taking place at ESA/ESRIN in Frascati\, Italy\, during September 16–18\, 2024\, this event will offer an insightful exploration of urban challenges and innovative EO-integrated solutions. URBIS24 will consist of presentations from invited speakers addressing key urban challenges and insights on latest results from experts leveraging Earth Observation for urban problem-solving and monitoring. The workshop is designed to be dynamic and participatory\, featuring interactive sessions to identify the pressing needs and priorities of urban experts and decision-makers. Through collaborative discussions\, the goal is to map existing innovative methodologies and technological solutions while exploring new applications for further development. The workshop will also include a poster session\, providing a platform for participants to showcase their projects and use cases\, fostering networking and exchange of ideas.  Join us at URBIS24 to stay informed about the latest developments in urban monitoring and innovation from space and contribute to shaping the next steps. \nObjectives\n\nGather participants from different sectors\, including urban experts\, policy makers\, remote sensing experts\, academia and NGOs\, in sharing knowledge\, expertise and opportunities of using EO in addressing urban challenges\, hence fostering new collaborations among participants;\nIdentify challenges and priorities of urban experts and decision-makers in the context of urban planning\, urban adaptation\, increasing livability\, which can strongly benefit from using up-to-date EO-integrated solutions;\nExplore up to date results from Remote Sensing scientists and experts and delineate new applications and R&D activities.\n\nTopics\n\n\nMethodology/Data\nRemote sensing methods for characterising urban areas\n(multispectral\, hyperspectral\, SAR/InSAR\, TIR\, LiDAR)\nDetailed LULC classification and change detection\nMulti-sensor and multi-scale synergies\nMulti-temporal approaches\nGlobal urban layers\nCost-effective use of commercial data\nDownscaling (e.g.\, super-resolution)\nAI for urban\n3D/4D mapping\nNight-lights applications\nUAVs/drones\, aerial platforms\nCapacity building\, education\, citizen science\,\ncrowdsource data and tools for urban applications \n\n\nApplications\nEO integration in urban social science and policy\nUrban planning and modelling of urban growth\nHealth\, well-being and liveability\nUrban ecology\nNature-based solutions\nUrban energy infrastructure and renewables (demand\, access\, smart grids)\nUrban climate (Urban Heat Islands\, pollution/air quality)\nUrban green and blue infrastructures\nTransport\, Infrastructure and Sustainable Mobility \nNatural hazards\, risk reduction and urban resilience\nUrban subsidence\nInformal settlements\nPopulation distribution\nDelineation of functional urban areas \n\n  \nFor further information\, please go to the main website at https://urbis24.esa.int/ \n
URL:https://eo4society.esa.int/event/urbis24/
LOCATION:ESA-ESRIN\, Largo Galileo Galilei\, 1\, Frascati\, RM\, 00044\, Italy
CATEGORIES:Workshops
ATTACH;FMTTYPE=image/jpeg:https://eo4society.esa.int/wp-content/uploads/2024/01/URBIS24_bg-weboptim.jpg
END:VEVENT
END:VCALENDAR