BEGIN:VCALENDAR
VERSION:2.0
PRODID:-//eo science for society - ECPv5.0.2.1//NONSGML v1.0//EN
CALSCALE:GREGORIAN
METHOD:PUBLISH
X-WR-CALNAME:eo science for society
X-ORIGINAL-URL:https://eo4society.esa.int
X-WR-CALDESC:Events for eo science for society
BEGIN:VTIMEZONE
TZID:Europe/Paris
BEGIN:DAYLIGHT
TZOFFSETFROM:+0100
TZOFFSETTO:+0200
TZNAME:CEST
DTSTART:20150329T010000
END:DAYLIGHT
BEGIN:STANDARD
TZOFFSETFROM:+0200
TZOFFSETTO:+0100
TZNAME:CET
DTSTART:20151025T010000
END:STANDARD
END:VTIMEZONE
BEGIN:VEVENT
DTSTART;VALUE=DATE:20150412
DTEND;VALUE=DATE:20150416
DTSTAMP:20260419T132253
CREATED:20180530T075629Z
LAST-MODIFIED:20210416T125944Z
UID:1692-1428796800-1429142399@eo4society.esa.int
SUMMARY:Mineral Resources
DESCRIPTION:The Geosciences Information for Teachers (GIFT) Programme\, organised by the European Geosciences Union (EGU) offers teachers of primary school to high school the opportunity to upgrade their knowledge in geophysical themes and to shorten the time between new discoveries and textbook information. Each workshop focuses on particular themes. For more information on EGU GIFT\, visit the website. \n  \n
URL:https://eo4society.esa.int/event/mineral-resources/
LOCATION:Vienna\, Austria
CATEGORIES:Training/Education
END:VEVENT
END:VCALENDAR