BEGIN:VCALENDAR
VERSION:2.0
PRODID:-//eo science for society - ECPv5.0.2.1//NONSGML v1.0//EN
CALSCALE:GREGORIAN
METHOD:PUBLISH
X-WR-CALNAME:eo science for society
X-ORIGINAL-URL:https://eo4society.esa.int
X-WR-CALDESC:Events for eo science for society
BEGIN:VTIMEZONE
TZID:Europe/Helsinki
BEGIN:DAYLIGHT
TZOFFSETFROM:+0200
TZOFFSETTO:+0300
TZNAME:EEST
DTSTART:20190331T010000
END:DAYLIGHT
BEGIN:STANDARD
TZOFFSETFROM:+0300
TZOFFSETTO:+0200
TZNAME:EET
DTSTART:20191027T010000
END:STANDARD
END:VTIMEZONE
BEGIN:VEVENT
DTSTART;VALUE=DATE:20191104
DTEND;VALUE=DATE:20191109
DTSTAMP:20260420T044450
CREATED:20190919T083419Z
LAST-MODIFIED:20200527T074646Z
UID:7753-1572825600-1573257599@eo4society.esa.int
SUMMARY:First ESA-EUMETSAT-CAMS joint training course on Atmospheric Composition
DESCRIPTION:The course will present the state of the art in air quality monitoring\, societal impact and needs and enhance the capacity on data access and analysis of existing and new satellite data products and monitoring services. Furthermore it will foster participants driven personal and team projects. \nIt addresses early career scientists and service providers in the area of atmospheric pollution data analysis from member states of the EU and the hosting agencies including associated countries. \nCourse themes: \n\nEffects of air quality on human health\nPolicy implications\nAir quality measurements from satellites\nAir quality measurements from non-satellite platforms\nData assimilation\nData quality\, calibration and validation\nNew missions and new products\nSoftware and programming targeted on air quality applications\n\n  \n
URL:https://eo4society.esa.int/event/first-esa-eumetsat-cams-joint-training-course-on-atmospheric-composition/
LOCATION:Babeş-Bolyai University\, Cluj-Napoca\, Romania at Faculty of Economics and Business Administration\, Str. Mihail Kogălniceanu\, nr. 1\, Cluj-Napoca\, 400084\, Romania
CATEGORIES:Training/Education
ATTACH;FMTTYPE=image/jpeg:https://eo4society.esa.int/wp-content/uploads/2019/09/atmoTraining.jpg
END:VEVENT
END:VCALENDAR