BEGIN:VCALENDAR
VERSION:2.0
PRODID:-//eo science for society - ECPv5.0.2.1//NONSGML v1.0//EN
CALSCALE:GREGORIAN
METHOD:PUBLISH
X-WR-CALNAME:eo science for society
X-ORIGINAL-URL:https://eo4society.esa.int
X-WR-CALDESC:Events for eo science for society
BEGIN:VTIMEZONE
TZID:Europe/Helsinki
BEGIN:DAYLIGHT
TZOFFSETFROM:+0200
TZOFFSETTO:+0300
TZNAME:EEST
DTSTART:20220327T010000
END:DAYLIGHT
BEGIN:STANDARD
TZOFFSETFROM:+0300
TZOFFSETTO:+0200
TZNAME:EET
DTSTART:20221030T010000
END:STANDARD
END:VTIMEZONE
BEGIN:VEVENT
DTSTART;TZID=Europe/Helsinki:20221123T093000
DTEND;TZID=Europe/Helsinki:20221125T130000
DTSTAMP:20260420T114223
CREATED:20221011T093934Z
LAST-MODIFIED:20221122T132421Z
UID:20367-1669195800-1669381200@eo4society.esa.int
SUMMARY:ESA Polar Science Collocation Meeting
DESCRIPTION:Background\nThe ESA Polar Science Cluster involves a set of different ESA-funded scientific activities addressing different aspects of Polar research. Through this set of projects ESA aims at working hand by hand with the scientific community to: \n\nImprove our observation capacity over the polar regions and develop of the next generation of polar observations from space;\nEnhance the basic scientific understanding of the different processes governing polar changes and their regional and global impacts;\nContribute to the translation of new knowledge and scientific results into actionable solutions for society.\n\nThe ESA Polar Science Cluster is supported by a number of research opportunities and networking actions promoting collaborative research\, fostering European and international scientific collaboration especially with EC-funded activities within the context of the joint EC-ESA Earth System Science Initiative. \nThe main purpose of this meeting is to review and discuss the final results from a number of Polar Cluster projects terminating this year\, as well as present some ongoing and recently-launched projects\, and discuss links to relevant EC activities. Having reviewed the outcomes of the various projects and identified the scientific priorities going forward\, we would like to collectively define a set of science objectives for the Polar Science Cluster for 2023+. \nMore information\, results and the complete set of projects are provided on the dedicated web site: https://eo4society.esa.int/communities/scientists/esa-polar-science-cluster \nPlease find the link to the detailed  Programme for your info and reference:\nESA Polar Science Cluster 2022 – Agenda \nRegister Here \nGuidelines for Participants \n  \n
URL:https://eo4society.esa.int/event/esa-polar-science-collocation-meeting/
LOCATION:ESA-ESRIN\, Largo Galileo Galilei\, 1\, Frascati\, RM\, 00044\, Italy
CATEGORIES:Workshops
ATTACH;FMTTYPE=image/jpeg:https://eo4society.esa.int/wp-content/uploads/2022/10/web_image_622x328.jpg
END:VEVENT
END:VCALENDAR