BEGIN:VCALENDAR
VERSION:2.0
PRODID:-//eo science for society - ECPv5.0.2.1//NONSGML v1.0//EN
CALSCALE:GREGORIAN
METHOD:PUBLISH
X-WR-CALNAME:eo science for society
X-ORIGINAL-URL:https://eo4society.esa.int
X-WR-CALDESC:Events for eo science for society
BEGIN:VTIMEZONE
TZID:Europe/Helsinki
BEGIN:DAYLIGHT
TZOFFSETFROM:+0200
TZOFFSETTO:+0300
TZNAME:EEST
DTSTART:20230326T010000
END:DAYLIGHT
BEGIN:STANDARD
TZOFFSETFROM:+0300
TZOFFSETTO:+0200
TZNAME:EET
DTSTART:20231029T010000
END:STANDARD
END:VTIMEZONE
BEGIN:VEVENT
DTSTART;VALUE=DATE:20231119
DTEND;VALUE=DATE:20231124
DTSTAMP:20260419T210626
CREATED:20230918T123213Z
LAST-MODIFIED:20230918T123431Z
UID:23376-1700352000-1700783999@eo4society.esa.int
SUMMARY:EO AFRICA F2F Training: Assessing vegetation dynamics from space with cloud-based EO analyses
DESCRIPTION:The F2F course of the EO AFRICA R&D Facility will take place in Cairo\, Egypt in close collaboration with the National Authority for Remote Sensing & Space Sciences (NARSS). \nIn this course\, participants will get an introduction to cloud-based techniques for assessing vegetation dynamics with Earth Observation data.  \nThe training includes face-to-face lecturing and reading material to provide the theoretical background. Hands-on exercises will demonstrate the applications of the methods and step by step pdf tutorials will be provided as well. \nDEADLINE FOR APPLICATIONS: October 19\, 2023 \n\n
URL:https://eo4society.esa.int/event/eo-africa-f2f-training-assessing-vegetation-dynamics-from-space-with-cloud-based-eo-analyses/
CATEGORIES:Training/Education
ATTACH;FMTTYPE=image/png:https://eo4society.esa.int/wp-content/uploads/2023/09/VegDynam.png
END:VEVENT
END:VCALENDAR