BEGIN:VCALENDAR
VERSION:2.0
PRODID:-//eo science for society - ECPv5.0.2.1//NONSGML v1.0//EN
CALSCALE:GREGORIAN
METHOD:PUBLISH
X-WR-CALNAME:eo science for society
X-ORIGINAL-URL:https://eo4society.esa.int
X-WR-CALDESC:Events for eo science for society
BEGIN:VTIMEZONE
TZID:Europe/Helsinki
BEGIN:DAYLIGHT
TZOFFSETFROM:+0200
TZOFFSETTO:+0300
TZNAME:EEST
DTSTART:20210328T010000
END:DAYLIGHT
BEGIN:STANDARD
TZOFFSETFROM:+0300
TZOFFSETTO:+0200
TZNAME:EET
DTSTART:20211031T010000
END:STANDARD
END:VTIMEZONE
BEGIN:VEVENT
DTSTART;VALUE=DATE:20210928
DTEND;VALUE=DATE:20210930
DTSTAMP:20260420T011749
CREATED:20210923T130753Z
LAST-MODIFIED:20220520T100312Z
UID:16911-1632787200-1632959999@eo4society.esa.int
SUMMARY:4D Deep Dynamic Earth Science Meeting 2021
DESCRIPTION:This Science Meeting is intended to consolidate results of the ESA STSE 3D Earth and recommendations from the ESA mini-workshop on perspectives for Deep Earth research from 2018 in order to define user interest for a Deep Earth project within the ESA realm. \nPlease find here the meeting report for download. \n \n  \n
URL:https://eo4society.esa.int/event/4d-deep-dynamic-earth-science-meeting-2021/
LOCATION:Online
CATEGORIES:Workshops
ATTACH;FMTTYPE=image/jpeg:https://eo4society.esa.int/wp-content/uploads/2018/09/501576381-170667ab.jpg
END:VEVENT
END:VCALENDAR