BEGIN:VCALENDAR
VERSION:2.0
PRODID:-//eo science for society - ECPv5.0.2.1//NONSGML v1.0//EN
CALSCALE:GREGORIAN
METHOD:PUBLISH
X-WR-CALNAME:eo science for society
X-ORIGINAL-URL:https://eo4society.esa.int
X-WR-CALDESC:Events for eo science for society
BEGIN:VTIMEZONE
TZID:Europe/Helsinki
BEGIN:DAYLIGHT
TZOFFSETFROM:+0200
TZOFFSETTO:+0300
TZNAME:EEST
DTSTART:20130331T010000
END:DAYLIGHT
BEGIN:STANDARD
TZOFFSETFROM:+0300
TZOFFSETTO:+0200
TZNAME:EET
DTSTART:20131027T010000
END:STANDARD
END:VTIMEZONE
BEGIN:VEVENT
DTSTART;VALUE=DATE:20130923
DTEND;VALUE=DATE:20130928
DTSTAMP:20260425T123108
CREATED:20200109T133522Z
LAST-MODIFIED:20210312T151432Z
UID:9506-1379894400-1380326399@eo4society.esa.int
SUMMARY:3rd ESA Advanced Training Course on Ocean Remote Sensing 2013
DESCRIPTION:As part of the Scientific Exploitation of Operational Missions (SEOM) programme element the European Space Agency (ESA) organised a series of advanced thematic training courses devoted to train the next generation of Earth Observation (EO) scientists to use data from ESA and operational EO Missions for science and applications development. \nPost-doctoral and graduate research scientists\, PhD students and EO information users from European countries and Canada interested in ocean remote sensing and its applications were invited to attend the 5 day course which was held in Cork\, at the National Maritime College of Ireland from 23 to 27 September 2013. Research scientists and students from non-ESA member countries were also welcome to apply and participate in the course subject to space availability. \nObjectives\nThe advanced ocean training course aimed at: \n\nTraining the next generation of European and Canadian Principal Investigators (PIs)\nTeaching and demonstrating theoretical principles\, processing algorithms\, data products and their use in applications\nIntroducing tools and methods for the exploitation of EO satellite data\nStimulating and supporting the exploitation of EO remote sensing data in ocean applications\nPeparating for the scientific utilisation of data from the Sentinel satellite series\n\nContents \nThe advanced course provided a substantial and balanced introduction to the basic theory and applications related to ocean remote sensing. It was organised around the following main components: \n\n\n\nTheoretical fundamentals of Optical\, Thermal and SAR Ocean remote sensing\, focusing on use of ESA and Third Party Mission data and products\nPracticals using existing software tools (BEAM\, BRAT\, SARTool\, Bilko) and complementary datasets from ESA for the interpretation of signatures from EO data and their transformation into geo-physical products\nEO data processing and product demonstration for practical monitoring applications in open oceans and coastal zones.\n\n\n\nThe training course included formal lectures by leading scientists as well as hands-on practical exercises allowing students to work with SAR\, Optical/Thermal and Radar Altimeter data. \nAccess here below the full programme. \n \n
URL:https://eo4society.esa.int/event/3rd-advanced-ocean-2013/
LOCATION:National Maritime College of Ireland\, Ringaskiddy\,\, Co. Cork\, Ireland
CATEGORIES:Training/Education
END:VEVENT
END:VCALENDAR