BEGIN:VCALENDAR
VERSION:2.0
PRODID:-//eo science for society - ECPv5.0.2.1//NONSGML v1.0//EN
CALSCALE:GREGORIAN
METHOD:PUBLISH
X-WR-CALNAME:eo science for society
X-ORIGINAL-URL:https://eo4society.esa.int
X-WR-CALDESC:Events for eo science for society
BEGIN:VTIMEZONE
TZID:Europe/Helsinki
BEGIN:DAYLIGHT
TZOFFSETFROM:+0200
TZOFFSETTO:+0300
TZNAME:EEST
DTSTART:20200329T010000
END:DAYLIGHT
BEGIN:STANDARD
TZOFFSETFROM:+0300
TZOFFSETTO:+0200
TZNAME:EET
DTSTART:20201025T010000
END:STANDARD
END:VTIMEZONE
BEGIN:VEVENT
DTSTART;VALUE=DATE:20200204
DTEND;VALUE=DATE:20200208
DTSTAMP:20260420T051259
CREATED:20191122T075616Z
LAST-MODIFIED:20191122T084419Z
UID:8888-1580774400-1581119999@eo4society.esa.int
SUMMARY:12th Coastal Altimetry Workshop and Training
DESCRIPTION:This workshop aims at being a lively forum for a community-led review of the science and applications of coastal altimetry\, from data processing through emerging applications to new technologies. \nIt will include a coastal altimetry training targeted at early career scientists. \nMain workshop themes will be: \n\nTechnical issues in coastal altimetry\, both for conventional and SAR/SARin modes\, such as: progress on waveform modelling and retracking\, Sea State Bias correction in coastal regions\, improvements in other corrections\, performance assessment of coastal altimetry\, calibration and validation of coastal altimetry data and inter-calibration amongst various missions.\nApplications of coastal altimetry data\, both for conventional and SAR/SARin modes\, alone or in combination with other spaceborne and in situ data and models. This includes the use of data from the various data providers and/or reprocessing initiatives such as SL_cci\, SS_cci\, CTOH\, ALES/ALES+\, REAPER\, PEACHI\, GPOD/SARvatore\, SCOOP\, Baltic+ SEAL\, RACZIW and others from NASA/NOAA and other worldwide space or funding agencies. Possible applications comprise coastal sea level variations\, coastal sea state & sea level interactions\, coastal currents\, coastal wave field\, storm surge research\, interaction between inland water discharge & coastal sea level and 2D Altimetry in the coastal zone in preparation of SWOT. A key topic will also be the assimilation of data in coastal dynamics and storm surge models.\nSynergistic and climate studies. Studies addressing the synergies of coastal altimetry with in situ\, model and other satellite data (like SAR\, SST\, ocean colour) and the integration of coastal altimeter data into coastal observing systems\, as well as those looking at climate-scale variations of sea level and sea state in the coastal zone\, such as in the ESA Sea Level and Sea State Climate Change Initiative\, are particularly welcome.\n\nTraining Course Objectives: \n\nIntroduce altimetry missions and technologies to a non-expert audience\nPresent applications for oceanography and discuss challenges in coastal zone altimetry.\nProvide a description of existing altimetry datasets.\nPresent toolboxes and online processing platforms.\n\n
URL:https://eo4society.esa.int/event/12th-coastal-altimetry-workshop-and-training/
LOCATION:ESA-ESRIN\, Largo Galileo Galilei\, 1\, Frascati\, RM\, 00044\, Italy
CATEGORIES:Training/Education,Workshops
ATTACH;FMTTYPE=image/jpeg:https://eo4society.esa.int/wp-content/uploads/2019/11/12coastalAltimetry.jpg
END:VEVENT
END:VCALENDAR