BEGIN:VCALENDAR
VERSION:2.0
PRODID:-//eo science for society - ECPv5.0.2.1//NONSGML v1.0//EN
CALSCALE:GREGORIAN
METHOD:PUBLISH
X-WR-CALNAME:eo science for society
X-ORIGINAL-URL:https://eo4society.esa.int
X-WR-CALDESC:Events for eo science for society
BEGIN:VTIMEZONE
TZID:Europe/Paris
BEGIN:DAYLIGHT
TZOFFSETFROM:+0100
TZOFFSETTO:+0200
TZNAME:CEST
DTSTART:20180325T010000
END:DAYLIGHT
BEGIN:STANDARD
TZOFFSETFROM:+0200
TZOFFSETTO:+0100
TZNAME:CET
DTSTART:20181028T010000
END:STANDARD
END:VTIMEZONE
BEGIN:VEVENT
DTSTART;VALUE=DATE:20180612
DTEND;VALUE=DATE:20180616
DTSTAMP:20260419T203511
CREATED:20180419T074738Z
LAST-MODIFIED:20180917T084443Z
UID:412-1528761600-1529107199@eo4society.esa.int
SUMMARY:11th Coastal Altimetry Workshop
DESCRIPTION:\nThe Coastal Altimetry Community (http://www.coastalt.eu/community)\, that is the international community of scientists working on development and applications of altimetry in the coastal zone\, invites you to the European Space Agency establishment in Frascati (Italy)\, ESRIN\, for the 11th Edition of the Coastal Altimetry Workshop (CAW-11) on 12-15 June 2018\, including a Coastal Altimetry Training for Early Career Scientists. Coastal altimetry has become a recognised mission target for present and future satellite altimeters\, also thanks to the successful results of SAR altimetry from CryoSat-2\, Ka-band altimetry from SARAL/AltiKa and Sentinel-3A. This Workshop aims at being once again a lively forum for a community-led review of the science and applications of coastal altimetry\, from data processing through emerging applications to new technologies. \nThe workshop will feature studies using the latest missions (including CryoSat-2\, HY-2\, AltiKa\, Jason-3 and Sentinel-3). Special events are expected to include a session organised jointly with the Altimetry for Regional and Coastal Models (ARCOM) community of GODAE COSS-TT\, plus dedicated sessions on Currents\, Winds and Waves\, Sea Level and Extreme Events\, and Altimetry for Coastal Sea State Climate. \n\n
URL:https://eo4society.esa.int/event/11th-coastal-altimetry-workshop/
LOCATION:ESA-ESRIN\, Largo Galileo Galilei\, 1\, Frascati\, RM\, 00044\, Italy
CATEGORIES:Workshops
ATTACH;FMTTYPE=image/jpeg:https://eo4society.esa.int/wp-content/uploads/2018/04/coastalAltimetry.jpg
END:VEVENT
END:VCALENDAR